BEGIN:VCALENDAR
VERSION:2.0
PRODID:-//Hawk Shamanic Healing - ECPv6.15.20//NONSGML v1.0//EN
CALSCALE:GREGORIAN
METHOD:PUBLISH
X-ORIGINAL-URL:https://hawkshamanichealing.com
X-WR-CALDESC:Events for Hawk Shamanic Healing
REFRESH-INTERVAL;VALUE=DURATION:PT1H
X-Robots-Tag:noindex
X-PUBLISHED-TTL:PT1H
BEGIN:VTIMEZONE
TZID:America/Chicago
BEGIN:DAYLIGHT
TZOFFSETFROM:-0600
TZOFFSETTO:-0500
TZNAME:CDT
DTSTART:20240310T080000
END:DAYLIGHT
BEGIN:STANDARD
TZOFFSETFROM:-0500
TZOFFSETTO:-0600
TZNAME:CST
DTSTART:20241103T070000
END:STANDARD
BEGIN:DAYLIGHT
TZOFFSETFROM:-0600
TZOFFSETTO:-0500
TZNAME:CDT
DTSTART:20250309T080000
END:DAYLIGHT
BEGIN:STANDARD
TZOFFSETFROM:-0500
TZOFFSETTO:-0600
TZNAME:CST
DTSTART:20251102T070000
END:STANDARD
BEGIN:DAYLIGHT
TZOFFSETFROM:-0600
TZOFFSETTO:-0500
TZNAME:CDT
DTSTART:20260308T080000
END:DAYLIGHT
BEGIN:STANDARD
TZOFFSETFROM:-0500
TZOFFSETTO:-0600
TZNAME:CST
DTSTART:20261101T070000
END:STANDARD
END:VTIMEZONE
BEGIN:VEVENT
DTSTART;TZID=America/Chicago:20250915T190000
DTEND;TZID=America/Chicago:20250915T200000
DTSTAMP:20260420T203641
CREATED:20250902T184426Z
LAST-MODIFIED:20250902T185045Z
UID:1494-1757962800-1757966400@hawkshamanichealing.com
SUMMARY:Free Intro Zoom:  Shamanic Trauma Healing Practitioner Training
DESCRIPTION:Have you felt a calling to help and bring healing to others?\nWould you like to bring a deep level of healing to others\, as you help them on a positive spiritual path? \nAre  you unsure of what training is right for you? \nDo you feel that there are also issues/areas of your own life that need healing as well? \nJoin us for the Introduction to Shamanic Trauma Healing Practitioner Training – a free online event! \nThis is your chance to learn more about the Training\, see if it is a good fit for you\, as well as have your questions answered. \nPlease contact me here to sign up\, and request the link for the LIVE event.  https://hawkshamanichealing.com/contact/ \nLearn more about the Training here: https://hawkshamanichealing.com/shamanic-trauma-healing-practitioner-training/  then\, sign up for the LIVE event. \n  \n 
URL:https://hawkshamanichealing.com/event/free-intro-zoom-shamanic-trauma-healing-practitioner-training/
LOCATION:online
ATTACH;FMTTYPE=image/jpeg:https://hawkshamanichealing.com/wp-content/uploads/2024/01/shamans_drum.jpg
ORGANIZER;CN="Gary Chatham":MAILTO:gary@garychatham.com
END:VEVENT
END:VCALENDAR