BEGIN:VCALENDAR
VERSION:2.0
PRODID:-//Hawk Shamanic Healing - ECPv6.15.20//NONSGML v1.0//EN
CALSCALE:GREGORIAN
METHOD:PUBLISH
X-ORIGINAL-URL:https://hawkshamanichealing.com
X-WR-CALDESC:Events for Hawk Shamanic Healing
REFRESH-INTERVAL;VALUE=DURATION:PT1H
X-Robots-Tag:noindex
X-PUBLISHED-TTL:PT1H
BEGIN:VTIMEZONE
TZID:America/Chicago
BEGIN:DAYLIGHT
TZOFFSETFROM:-0600
TZOFFSETTO:-0500
TZNAME:CDT
DTSTART:20240310T080000
END:DAYLIGHT
BEGIN:STANDARD
TZOFFSETFROM:-0500
TZOFFSETTO:-0600
TZNAME:CST
DTSTART:20241103T070000
END:STANDARD
BEGIN:DAYLIGHT
TZOFFSETFROM:-0600
TZOFFSETTO:-0500
TZNAME:CDT
DTSTART:20250309T080000
END:DAYLIGHT
BEGIN:STANDARD
TZOFFSETFROM:-0500
TZOFFSETTO:-0600
TZNAME:CST
DTSTART:20251102T070000
END:STANDARD
BEGIN:DAYLIGHT
TZOFFSETFROM:-0600
TZOFFSETTO:-0500
TZNAME:CDT
DTSTART:20260308T080000
END:DAYLIGHT
BEGIN:STANDARD
TZOFFSETFROM:-0500
TZOFFSETTO:-0600
TZNAME:CST
DTSTART:20261101T070000
END:STANDARD
BEGIN:DAYLIGHT
TZOFFSETFROM:-0600
TZOFFSETTO:-0500
TZNAME:CDT
DTSTART:20270314T080000
END:DAYLIGHT
BEGIN:STANDARD
TZOFFSETFROM:-0500
TZOFFSETTO:-0600
TZNAME:CST
DTSTART:20271107T070000
END:STANDARD
END:VTIMEZONE
BEGIN:VEVENT
DTSTART;TZID=America/Chicago:20251104T190000
DTEND;TZID=America/Chicago:20251104T203000
DTSTAMP:20260421T003054
CREATED:20251103T143303Z
LAST-MODIFIED:20251103T143303Z
UID:1514-1762282800-1762288200@hawkshamanichealing.com
SUMMARY:Path of the Hawk:  Introduction to Shamanism
DESCRIPTION:This ongoing class is both online and in-person! \nJoin us as we learn: \n\nThe basics of shamanism\nHow to do a shamanic journey\nMeet and form a relationship with your power animal\nLearn how shamanism can be used to help heal emotional trauma\nOther shamanic/spiritual topics\n\nPlease contact us for the Zoom link for the online class.
URL:https://hawkshamanichealing.com/event/path-of-the-hawk-introduction-to-shamanism-3/
LOCATION:Gary Chatham’s office\, 2000 W Pioneer Parkway\, Suite 3\, Peoria\, IL\, 61615\, United States
ATTACH;FMTTYPE=image/jpeg:https://hawkshamanichealing.com/wp-content/uploads/2023/12/dreamstime_m_23649783.jpg
ORGANIZER;CN="Gary Chatham":MAILTO:gary@garychatham.com
END:VEVENT
BEGIN:VEVENT
DTSTART;TZID=America/Chicago:20251118T190000
DTEND;TZID=America/Chicago:20251118T203000
DTSTAMP:20260421T003054
CREATED:20251105T155459Z
LAST-MODIFIED:20251105T155459Z
UID:1533-1763492400-1763497800@hawkshamanichealing.com
SUMMARY:Path of the Hawk: Introduction to Shamanism
DESCRIPTION:This ongoing class is both online and in-person! \nJoin us as we learn: \n\nThe basics of shamanism\nHow to do a shamanic journey\nMeet and form a relationship with your power animal\nLearn how shamanism can be used to help heal emotional trauma\nOther shamanic/spiritual topics\n\nPlease contact us for the Zoom link for the online class.
URL:https://hawkshamanichealing.com/event/path-of-the-hawk-introduction-to-shamanism-4/
LOCATION:Gary Chatham’s office\, 2000 W Pioneer Parkway\, Suite 3\, Peoria\, IL\, 61615\, United States
ATTACH;FMTTYPE=image/jpeg:https://hawkshamanichealing.com/wp-content/uploads/2023/12/dreamstime_m_23649783.jpg
ORGANIZER;CN="Gary Chatham":MAILTO:gary@garychatham.com
END:VEVENT
BEGIN:VEVENT
DTSTART;TZID=America/Chicago:20251202T190000
DTEND;TZID=America/Chicago:20251202T203000
DTSTAMP:20260421T003054
CREATED:20251122T002342Z
LAST-MODIFIED:20251122T002342Z
UID:1543-1764702000-1764707400@hawkshamanichealing.com
SUMMARY:Path of the Hawk: Introduction to Shamanism
DESCRIPTION:This ongoing class is both online and in-person! \nJoin us as we learn: \n\nThe basics of shamanism\nHow to do a shamanic journey\nMeet and form a relationship with your power animal\nLearn how shamanism can be used to help heal emotional trauma\nOther shamanic/spiritual topics\n\nPlease contact us for the Zoom link for the online class.
URL:https://hawkshamanichealing.com/event/shamanism/
LOCATION:Gary Chatham’s office\, 2000 W Pioneer Parkway\, Suite 3\, Peoria\, IL\, 61615\, United States
CATEGORIES:Classes
ATTACH;FMTTYPE=image/jpeg:https://hawkshamanichealing.com/wp-content/uploads/2023/12/dreamstime_m_23649783.jpg
ORGANIZER;CN="Gary Chatham":MAILTO:gary@garychatham.com
END:VEVENT
BEGIN:VEVENT
DTSTART;TZID=America/Chicago:20251216T190000
DTEND;TZID=America/Chicago:20251216T203000
DTSTAMP:20260421T003054
CREATED:20251206T154335Z
LAST-MODIFIED:20251206T173134Z
UID:1560-1765911600-1765917000@hawkshamanichealing.com
SUMMARY:Path of the Hawk: Introduction to Shamanism
DESCRIPTION:This ongoing class is both online and in-person! \nJoin us as we learn: \n\nThe basics of shamanism\nHow to do a shamanic journey\nMeet and form a relationship with your power animal\nLearn how shamanism can be used to help heal emotional trauma\nOther shamanic/spiritual topics\n\nIn this introductory class\, we will explore the basic tenets of shamanism\, and embark on a transformative journey of self-discovery and spiritual growth\, that can lead to deeper healing of emotional trauma. \nPlease contact us for the Zoom link for the online class. \n$15 each class meeting.
URL:https://hawkshamanichealing.com/event/path-of-the-hawk-introduction-to-shamanism-5/
LOCATION:Gary Chatham’s office\, 2000 W Pioneer Parkway\, Suite 3\, Peoria\, IL\, 61615\, United States
ATTACH;FMTTYPE=image/jpeg:https://hawkshamanichealing.com/wp-content/uploads/2023/12/dreamstime_m_23649783.jpg
ORGANIZER;CN="Gary Chatham":MAILTO:gary@garychatham.com
END:VEVENT
BEGIN:VEVENT
DTSTART;TZID=America/Chicago:20251230T190000
DTEND;TZID=America/Chicago:20251230T203000
DTSTAMP:20260421T003054
CREATED:20251230T191658Z
LAST-MODIFIED:20251230T191658Z
UID:1577-1767121200-1767126600@hawkshamanichealing.com
SUMMARY:Path of the Hawk: Introduction to Shamanism
DESCRIPTION:This ongoing class is both online and in-person! \nJoin us as we learn: \n\nThe basics of shamanism\nHow to do a shamanic journey\nMeet and form a relationship with your power animal\nLearn how shamanism can be used to help heal emotional trauma\nOther shamanic/spiritual topics\n\nIn this introductory class\, we will explore the basic tenets of shamanism\, and embark on a transformative journey of self-discovery and spiritual growth\, that can lead to deeper healing of emotional trauma. \nPlease contact us for the Zoom link for the online class. \n$15 each class meeting.
URL:https://hawkshamanichealing.com/event/path-of-the-hawk-introduction-to-shamanism-6/
LOCATION:Gary Chatham’s office\, 2000 W Pioneer Parkway\, Suite 3\, Peoria\, IL\, 61615\, United States
CATEGORIES:Classes
ATTACH;FMTTYPE=image/jpeg:https://hawkshamanichealing.com/wp-content/uploads/2023/12/dreamstime_m_23649783.jpg
ORGANIZER;CN="Gary Chatham":MAILTO:gary@garychatham.com
END:VEVENT
BEGIN:VEVENT
DTSTART;TZID=America/Chicago:20260113T190000
DTEND;TZID=America/Chicago:20260113T203000
DTSTAMP:20260421T003054
CREATED:20260104T222617Z
LAST-MODIFIED:20260104T222617Z
UID:1583-1768330800-1768336200@hawkshamanichealing.com
SUMMARY:
DESCRIPTION:This ongoing class is both online and in-person! \nJoin us as we learn: \n\nThe basics of shamanism\nHow to do a shamanic journey\nMeet and form a relationship with your power animal\nLearn how shamanism can be used to help heal emotional trauma\nOther shamanic/spiritual topics\n\nIn this introductory class\, we will explore the basic tenets of shamanism\, and embark on a transformative journey of self-discovery and spiritual growth\, that can lead to deeper healing of emotional trauma. \nPlease contact us for the Zoom link for the online class. \n$15 each class meeting.
URL:https://hawkshamanichealing.com/event/1583/
LOCATION:Gary Chatham’s office\, 2000 W Pioneer Parkway\, Suite 3\, Peoria\, IL\, 61615\, United States
ATTACH;FMTTYPE=image/jpeg:https://hawkshamanichealing.com/wp-content/uploads/2023/12/dreamstime_m_23649783.jpg
ORGANIZER;CN="Gary Chatham":MAILTO:gary@garychatham.com
END:VEVENT
BEGIN:VEVENT
DTSTART;TZID=America/Chicago:20260127T190000
DTEND;TZID=America/Chicago:20260127T203000
DTSTAMP:20260421T003054
CREATED:20260117T221453Z
LAST-MODIFIED:20260117T221453Z
UID:1587-1769540400-1769545800@hawkshamanichealing.com
SUMMARY:Path of the Hawk:  Introduction to Shamanism
DESCRIPTION:This event is both online and in-person! This is an ongoing class. If you are curious about the shamanic path\, and would like to learn more\, as well as join a supportive ongoing spiritual community\, please join us! $15 donation requested. \n\nTonight we will learn more about Learning to Listen to Spirit. \n\nPlease contact me for the Zoom link for the online class. https://hawkshamanichealing.com/contact/
URL:https://hawkshamanichealing.com/event/path-of-the-hawk-introduction-to-shamanism-7/
LOCATION:Gary Chatham’s office\, 2000 W Pioneer Parkway\, Suite 3\, Peoria\, IL\, 61615\, United States
ATTACH;FMTTYPE=image/jpeg:https://hawkshamanichealing.com/wp-content/uploads/2023/12/dreamstime_m_23649783.jpg
ORGANIZER;CN="Gary Chatham":MAILTO:gary@garychatham.com
END:VEVENT
BEGIN:VEVENT
DTSTART;TZID=America/Chicago:20260210T183000
DTEND;TZID=America/Chicago:20260210T200000
DTSTAMP:20260421T003054
CREATED:20260206T000316Z
LAST-MODIFIED:20260206T000316Z
UID:1591-1770748200-1770753600@hawkshamanichealing.com
SUMMARY:Path of the Hawk: Introduction to Shamanism
DESCRIPTION:This event is both online and in-person! This is an ongoing class. If you are curious about the shamanic path\, and would like to learn more\, as well as join a supportive ongoing spiritual community\, please join us! $25 donation requested.  \n\nTonight we will learn more about Learning to Listen to Spirit.  \n\nPlease contact me for the Zoom link for the online class. https://hawkshamanichealing.com/contact/
URL:https://hawkshamanichealing.com/event/path-of-the-hawk-introduction-to-shamanism-8/
LOCATION:Gary Chatham’s office\, 2000 W Pioneer Parkway\, Suite 3\, Peoria\, IL\, 61615\, United States
ATTACH;FMTTYPE=image/jpeg:https://hawkshamanichealing.com/wp-content/uploads/2023/12/dreamstime_m_23649783.jpg
ORGANIZER;CN="Gary Chatham":MAILTO:gary@garychatham.com
END:VEVENT
BEGIN:VEVENT
DTSTART;TZID=America/Chicago:20260303T183000
DTEND;TZID=America/Chicago:20260303T193000
DTSTAMP:20260421T003054
CREATED:20260301T233350Z
LAST-MODIFIED:20260301T233350Z
UID:1595-1772562600-1772566200@hawkshamanichealing.com
SUMMARY:
DESCRIPTION:This event is both online and in-person! This is an ongoing class. If you are curious about the shamanic path\, and would like to learn more\, as well as join a supportive ongoing spiritual community\, please join us! $25 donation requested.  \n\nTonight we will learn more about Creating a Positive Frequency in the World .  \n\nPlease contact me for the Zoom link for the online class. https://hawkshamanichealing.com/contact/
URL:https://hawkshamanichealing.com/event/1595/
LOCATION:Gary Chatham’s office\, 2000 W Pioneer Parkway\, Suite 3\, Peoria\, IL\, 61615\, United States
ATTACH;FMTTYPE=image/jpeg:https://hawkshamanichealing.com/wp-content/uploads/2023/12/dreamstime_m_23649783.jpg
ORGANIZER;CN="Gary Chatham":MAILTO:gary@garychatham.com
END:VEVENT
END:VCALENDAR